Package: SpotSweeper Version: 1.3.3 Command: /home/biocbuild/bbs-3.21-bioc/R/bin/R CMD INSTALL SpotSweeper StartedAt: 2025-02-09 15:23:13 -0500 (Sun, 09 Feb 2025) EndedAt: 2025-02-09 15:23:52 -0500 (Sun, 09 Feb 2025) EllapsedTime: 38.3 seconds RetCode: 0 Status: OK