Package: SpotSweeper Version: 1.3.3 Command: rm -rf SpotSweeper.buildbin-libdir && mkdir SpotSweeper.buildbin-libdir && E:\biocbuild\bbs-3.21-bioc\R\bin\R.exe CMD INSTALL --build --library=SpotSweeper.buildbin-libdir SpotSweeper_1.3.3.tar.gz StartedAt: 2025-02-10 08:48:11 -0500 (Mon, 10 Feb 2025) EndedAt: 2025-02-10 08:48:56 -0500 (Mon, 10 Feb 2025) EllapsedTime: 45.0 seconds RetCode: 0 Status: OK PackageFile: SpotSweeper_1.3.3.zip PackageFileSize: 3.156 MiB