Package: SpotSweeper Version: 1.3.3 Command: chmod a+r SpotSweeper -R && E:\biocbuild\bbs-3.21-bioc\R\bin\R.exe CMD build --keep-empty-dirs --no-resave-data SpotSweeper StartedAt: 2025-02-03 22:05:56 -0500 (Mon, 03 Feb 2025) EndedAt: 2025-02-03 22:08:58 -0500 (Mon, 03 Feb 2025) EllapsedTime: 182.3 seconds RetCode: 0 Status: OK PackageFile: SpotSweeper_1.3.3.tar.gz PackageFileSize: 3.125 MiB