Package: SpotSweeper Version: 1.3.3 Command: E:\biocbuild\bbs-3.21-bioc\R\bin\R.exe CMD check --no-multiarch --install=check:SpotSweeper.install-out.txt --library=E:\biocbuild\bbs-3.21-bioc\R\library --no-vignettes --timings SpotSweeper_1.3.3.tar.gz StartedAt: 2025-02-10 05:50:30 -0500 (Mon, 10 Feb 2025) EndedAt: 2025-02-10 06:00:31 -0500 (Mon, 10 Feb 2025) EllapsedTime: 601.3 seconds RetCode: 0 Status: OK CheckDir: SpotSweeper.Rcheck Warnings: 0