Package: SpotSweeper Version: 1.3.3 Command: E:\biocbuild\bbs-3.21-bioc\R\bin\R.exe CMD INSTALL SpotSweeper StartedAt: 2025-02-09 16:56:30 -0500 (Sun, 09 Feb 2025) EndedAt: 2025-02-09 16:57:14 -0500 (Sun, 09 Feb 2025) EllapsedTime: 44.5 seconds RetCode: 0 Status: OK