Package: StabMap Version: 1.1.0 Command: /Library/Frameworks/R.framework/Resources/bin/R CMD check --install=check:StabMap.install-out.txt --library=/Library/Frameworks/R.framework/Resources/library --no-vignettes --timings StabMap_1.1.0.tar.gz StartedAt: 2025-02-12 23:41:25 -0500 (Wed, 12 Feb 2025) EndedAt: 2025-02-12 23:44:26 -0500 (Wed, 12 Feb 2025) EllapsedTime: 181.5 seconds RetCode: 0 Status: OK CheckDir: StabMap.Rcheck Warnings: 0