Package: StabMap Version: 1.1.0 Command: /home/biocbuild/bbs-3.21-bioc/R/bin/R CMD INSTALL StabMap StartedAt: 2025-02-09 15:51:26 -0500 (Sun, 09 Feb 2025) EndedAt: 2025-02-09 15:51:46 -0500 (Sun, 09 Feb 2025) EllapsedTime: 20.5 seconds RetCode: 0 Status: OK