Package: StabMap Version: 1.1.0 Command: rm -rf StabMap.buildbin-libdir && mkdir StabMap.buildbin-libdir && E:\biocbuild\bbs-3.21-bioc\R\bin\R.exe CMD INSTALL --build --library=StabMap.buildbin-libdir StabMap_1.1.0.tar.gz StartedAt: 2025-02-13 08:59:33 -0500 (Thu, 13 Feb 2025) EndedAt: 2025-02-13 09:00:07 -0500 (Thu, 13 Feb 2025) EllapsedTime: 33.3 seconds RetCode: 0 Status: OK PackageFile: StabMap_1.1.0.zip PackageFileSize: 1.362 MiB