Package: StabMap Version: 1.1.0 Command: chmod a+r StabMap -R && E:\biocbuild\bbs-3.21-bioc\R\bin\R.exe CMD build --keep-empty-dirs --no-resave-data StabMap StartedAt: 2025-02-12 22:04:12 -0500 (Wed, 12 Feb 2025) EndedAt: 2025-02-12 22:12:27 -0500 (Wed, 12 Feb 2025) EllapsedTime: 494.7 seconds RetCode: 0 Status: OK PackageFile: StabMap_1.1.0.tar.gz PackageFileSize: 1.704 MiB