Package: StabMap Version: 1.1.0 Command: E:\biocbuild\bbs-3.21-bioc\R\bin\R.exe CMD check --no-multiarch --install=check:StabMap.install-out.txt --library=E:\biocbuild\bbs-3.21-bioc\R\library --no-vignettes --timings StabMap_1.1.0.tar.gz StartedAt: 2025-02-10 05:54:57 -0500 (Mon, 10 Feb 2025) EndedAt: 2025-02-10 05:58:19 -0500 (Mon, 10 Feb 2025) EllapsedTime: 201.8 seconds RetCode: 0 Status: OK CheckDir: StabMap.Rcheck Warnings: 0