Package: Statial Version: 1.9.0 Command: /Library/Frameworks/R.framework/Resources/bin/R CMD build --keep-empty-dirs --no-resave-data Statial StartedAt: 2025-02-09 18:38:19 -0500 (Sun, 09 Feb 2025) EndedAt: 2025-02-09 18:45:31 -0500 (Sun, 09 Feb 2025) EllapsedTime: 432.5 seconds RetCode: 1 Status: ERROR PackageFile: None PackageFileSize: NA