Package: Statial Version: 1.9.0 Command: /Library/Frameworks/R.framework/Resources/bin/R CMD INSTALL Statial StartedAt: 2025-02-09 15:45:34 -0500 (Sun, 09 Feb 2025) EndedAt: 2025-02-09 15:46:11 -0500 (Sun, 09 Feb 2025) EllapsedTime: 37.2 seconds RetCode: 0 Status: OK