Package: Statial Version: 1.9.0 Command: /home/biocbuild/bbs-3.21-bioc/R/bin/R CMD build --keep-empty-dirs --no-resave-data Statial StartedAt: 2025-02-09 19:29:40 -0500 (Sun, 09 Feb 2025) EndedAt: 2025-02-09 19:36:12 -0500 (Sun, 09 Feb 2025) EllapsedTime: 391.7 seconds RetCode: 1 Status: ERROR PackageFile: None PackageFileSize: NA