Package: Statial Version: 1.9.0 Command: chmod a+r Statial -R && E:\biocbuild\bbs-3.21-bioc\R\bin\R.exe CMD build --keep-empty-dirs --no-resave-data Statial StartedAt: 2025-02-12 22:04:31 -0500 (Wed, 12 Feb 2025) EndedAt: 2025-02-12 22:14:44 -0500 (Wed, 12 Feb 2025) EllapsedTime: 612.3 seconds RetCode: 1 Status: ERROR PackageFile: None PackageFileSize: NA