Package: Streamer Version: 1.53.0 Command: /Library/Frameworks/R.framework/Resources/bin/R CMD build --keep-empty-dirs --no-resave-data Streamer StartedAt: 2025-02-09 17:44:57 -0500 (Sun, 09 Feb 2025) EndedAt: 2025-02-09 17:45:06 -0500 (Sun, 09 Feb 2025) EllapsedTime: 9.1 seconds RetCode: 0 Status: OK PackageFile: Streamer_1.53.0.tar.gz PackageFileSize: 134 KiB