Package: Streamer Version: 1.53.0 Command: /Library/Frameworks/R.framework/Resources/bin/R CMD check --install=check:Streamer.install-out.txt --library=/Library/Frameworks/R.framework/Resources/library --no-vignettes --timings Streamer_1.53.0.tar.gz StartedAt: 2025-02-09 21:37:57 -0500 (Sun, 09 Feb 2025) EndedAt: 2025-02-09 21:38:16 -0500 (Sun, 09 Feb 2025) EllapsedTime: 19.3 seconds RetCode: 0 Status: OK CheckDir: Streamer.Rcheck Warnings: 0