Package: Streamer Version: 1.53.0 Command: /home/biocbuild/R/R/bin/R CMD check --install=check:Streamer.install-out.txt --library=/home/biocbuild/R/R/site-library --no-vignettes --timings Streamer_1.53.0.tar.gz StartedAt: 2025-01-28 15:50:38 -0000 (Tue, 28 Jan 2025) EndedAt: 2025-01-28 15:51:31 -0000 (Tue, 28 Jan 2025) EllapsedTime: 53.1 seconds RetCode: 0 Status: OK CheckDir: Streamer.Rcheck Warnings: 0