Package: Streamer Version: 1.53.0 Command: /home/biocbuild/R/R/bin/R CMD INSTALL Streamer StartedAt: 2025-01-29 19:35:45 -0000 (Wed, 29 Jan 2025) EndedAt: 2025-01-29 19:36:09 -0000 (Wed, 29 Jan 2025) EllapsedTime: 23.7 seconds RetCode: 0 Status: OK