Package: Streamer Version: 1.53.0 Command: /home/biocbuild/bbs-3.21-bioc/R/bin/R CMD build --keep-empty-dirs --no-resave-data Streamer StartedAt: 2025-02-09 19:29:55 -0500 (Sun, 09 Feb 2025) EndedAt: 2025-02-09 19:30:13 -0500 (Sun, 09 Feb 2025) EllapsedTime: 18.0 seconds RetCode: 0 Status: OK PackageFile: Streamer_1.53.0.tar.gz PackageFileSize: 134 KiB