Package: Streamer Version: 1.53.0 Command: /home/biocbuild/bbs-3.21-bioc/R/bin/R CMD check --install=check:Streamer.install-out.txt --library=/home/biocbuild/bbs-3.21-bioc/R/site-library --timings Streamer_1.53.0.tar.gz StartedAt: 2025-02-04 03:15:18 -0500 (Tue, 04 Feb 2025) EndedAt: 2025-02-04 03:16:06 -0500 (Tue, 04 Feb 2025) EllapsedTime: 47.1 seconds RetCode: 0 Status: OK CheckDir: Streamer.Rcheck Warnings: 0