Package: Streamer Version: 1.53.0 Command: E:\biocbuild\bbs-3.21-bioc\R\bin\R.exe CMD INSTALL Streamer StartedAt: 2025-02-03 15:40:52 -0500 (Mon, 03 Feb 2025) EndedAt: 2025-02-03 15:41:28 -0500 (Mon, 03 Feb 2025) EllapsedTime: 36.5 seconds RetCode: 0 Status: OK