Package: Structstrings Version: 1.23.1 Command: /Library/Frameworks/R.framework/Resources/bin/R CMD check --install=check:Structstrings.install-out.txt --library=/Library/Frameworks/R.framework/Resources/library --no-vignettes --timings Structstrings_1.23.1.tar.gz StartedAt: 2025-02-12 21:43:17 -0500 (Wed, 12 Feb 2025) EndedAt: 2025-02-12 21:44:19 -0500 (Wed, 12 Feb 2025) EllapsedTime: 61.7 seconds RetCode: 0 Status: OK CheckDir: Structstrings.Rcheck Warnings: 0