Package: Structstrings Version: 1.23.1 Command: /home/biocbuild/R/R/bin/R CMD build --keep-empty-dirs --no-resave-data Structstrings StartedAt: 2025-01-28 02:46:44 -0000 (Tue, 28 Jan 2025) EndedAt: 2025-01-28 02:47:23 -0000 (Tue, 28 Jan 2025) EllapsedTime: 39.0 seconds RetCode: 0 Status: OK PackageFile: Structstrings_1.23.1.tar.gz PackageFileSize: 438.4 KiB