Package: Structstrings Version: 1.23.1 Command: /home/biocbuild/bbs-3.21-bioc/R/bin/R CMD check --install=check:Structstrings.install-out.txt --library=/home/biocbuild/bbs-3.21-bioc/R/site-library --timings Structstrings_1.23.1.tar.gz StartedAt: 2025-02-10 03:09:20 -0500 (Mon, 10 Feb 2025) EndedAt: 2025-02-10 03:12:26 -0500 (Mon, 10 Feb 2025) EllapsedTime: 186.3 seconds RetCode: 0 Status: OK CheckDir: Structstrings.Rcheck Warnings: 0