Package: Structstrings Version: 1.23.1 Command: /home/biocbuild/bbs-3.21-bioc/R/bin/R CMD INSTALL Structstrings StartedAt: 2025-02-09 15:16:40 -0500 (Sun, 09 Feb 2025) EndedAt: 2025-02-09 15:16:58 -0500 (Sun, 09 Feb 2025) EllapsedTime: 17.5 seconds RetCode: 0 Status: OK