Package: Structstrings Version: 1.23.1 Command: chmod a+r Structstrings -R && E:\biocbuild\bbs-3.21-bioc\R\bin\R.exe CMD build --keep-empty-dirs --no-resave-data Structstrings StartedAt: 2025-02-12 22:05:08 -0500 (Wed, 12 Feb 2025) EndedAt: 2025-02-12 22:06:03 -0500 (Wed, 12 Feb 2025) EllapsedTime: 54.8 seconds RetCode: 0 Status: OK PackageFile: Structstrings_1.23.1.tar.gz PackageFileSize: 367.1 KiB