Package: Structstrings Version: 1.23.1 Command: E:\biocbuild\bbs-3.21-bioc\R\bin\R.exe CMD check --no-multiarch --install=check:Structstrings.install-out.txt --library=E:\biocbuild\bbs-3.21-bioc\R\library --no-vignettes --timings Structstrings_1.23.1.tar.gz StartedAt: 2025-02-10 05:57:07 -0500 (Mon, 10 Feb 2025) EndedAt: 2025-02-10 06:00:58 -0500 (Mon, 10 Feb 2025) EllapsedTime: 230.9 seconds RetCode: 0 Status: OK CheckDir: Structstrings.Rcheck Warnings: 0