Package: SubCellBarCode Version: 1.23.0 Command: rm -rf SubCellBarCode.buildbin-libdir && mkdir SubCellBarCode.buildbin-libdir && /Users/biocbuild/BBS/utils/build-universal.sh SubCellBarCode_1.23.0.tar.gz /Library/Frameworks/R.framework/Resources/bin/R SubCellBarCode.buildbin-libdir StartedAt: 2025-02-12 22:37:51 -0500 (Wed, 12 Feb 2025) EndedAt: 2025-02-12 22:38:01 -0500 (Wed, 12 Feb 2025) EllapsedTime: 10.2 seconds RetCode: 0 Status: OK PackageFile: SubCellBarCode_1.23.0.tgz PackageFileSize: 2.755 MiB