Package: SubCellBarCode Version: 1.23.0 Command: /Library/Frameworks/R.framework/Resources/bin/R CMD check --install=check:SubCellBarCode.install-out.txt --library=/Library/Frameworks/R.framework/Resources/library --no-vignettes --timings SubCellBarCode_1.23.0.tar.gz StartedAt: 2025-02-09 21:38:52 -0500 (Sun, 09 Feb 2025) EndedAt: 2025-02-09 21:40:11 -0500 (Sun, 09 Feb 2025) EllapsedTime: 79.0 seconds RetCode: 0 Status: OK CheckDir: SubCellBarCode.Rcheck Warnings: 0