Package: SubCellBarCode Version: 1.23.0 Command: rm -rf SubCellBarCode.buildbin-libdir && mkdir SubCellBarCode.buildbin-libdir && /Users/biocbuild/BBS/utils/build-universal.sh SubCellBarCode_1.23.0.tar.gz /Library/Frameworks/R.framework/Resources/bin/R SubCellBarCode.buildbin-libdir StartedAt: 2025-02-13 01:01:38 -0500 (Thu, 13 Feb 2025) EndedAt: 2025-02-13 01:02:12 -0500 (Thu, 13 Feb 2025) EllapsedTime: 33.6 seconds RetCode: 0 Status: OK PackageFile: SubCellBarCode_1.23.0.tgz PackageFileSize: 2.757 MiB