Package: SubCellBarCode Version: 1.23.0 Command: chmod a+r SubCellBarCode -R && E:\biocbuild\bbs-3.21-bioc\R\bin\R.exe CMD build --keep-empty-dirs --no-resave-data SubCellBarCode StartedAt: 2025-02-09 21:58:30 -0500 (Sun, 09 Feb 2025) EndedAt: 2025-02-09 22:03:59 -0500 (Sun, 09 Feb 2025) EllapsedTime: 328.6 seconds RetCode: 0 Status: OK PackageFile: SubCellBarCode_1.23.0.tar.gz PackageFileSize: 1.34 MiB