Package: Summix Version: 2.13.0 Command: rm -rf Summix.buildbin-libdir && mkdir Summix.buildbin-libdir && /Users/biocbuild/BBS/utils/build-universal.sh Summix_2.13.0.tar.gz /Library/Frameworks/R.framework/Resources/bin/R Summix.buildbin-libdir StartedAt: 2025-02-09 22:32:45 -0500 (Sun, 09 Feb 2025) EndedAt: 2025-02-09 22:32:50 -0500 (Sun, 09 Feb 2025) EllapsedTime: 5.1 seconds RetCode: 0 Status: OK PackageFile: Summix_2.13.0.tgz PackageFileSize: 355.1 KiB