Package: Summix Version: 2.13.0 Command: /Library/Frameworks/R.framework/Resources/bin/R CMD check --install=check:Summix.install-out.txt --library=/Library/Frameworks/R.framework/Resources/library --no-vignettes --timings Summix_2.13.0.tar.gz StartedAt: 2025-02-09 21:39:09 -0500 (Sun, 09 Feb 2025) EndedAt: 2025-02-09 21:39:36 -0500 (Sun, 09 Feb 2025) EllapsedTime: 27.3 seconds RetCode: 0 Status: OK CheckDir: Summix.Rcheck Warnings: 0