Package: Summix Version: 2.13.0 Command: /Library/Frameworks/R.framework/Resources/bin/R CMD INSTALL Summix StartedAt: 2025-02-12 15:14:46 -0500 (Wed, 12 Feb 2025) EndedAt: 2025-02-12 15:14:50 -0500 (Wed, 12 Feb 2025) EllapsedTime: 4.0 seconds RetCode: 0 Status: OK