Package: Summix Version: 2.13.0 Command: /home/biocbuild/R/R/bin/R CMD INSTALL Summix StartedAt: 2025-01-29 20:05:07 -0000 (Wed, 29 Jan 2025) EndedAt: 2025-01-29 20:05:12 -0000 (Wed, 29 Jan 2025) EllapsedTime: 4.3 seconds RetCode: 1 Status: ERROR