Package: Summix Version: 2.13.0 Command: /Library/Frameworks/R.framework/Resources/bin/R CMD build --keep-empty-dirs --no-resave-data Summix StartedAt: 2025-02-12 18:31:26 -0500 (Wed, 12 Feb 2025) EndedAt: 2025-02-12 18:31:43 -0500 (Wed, 12 Feb 2025) EllapsedTime: 17.1 seconds RetCode: 0 Status: OK PackageFile: Summix_2.13.0.tar.gz PackageFileSize: 1.254 MiB