Package: Summix Version: 2.13.0 Command: /Library/Frameworks/R.framework/Resources/bin/R CMD INSTALL Summix StartedAt: 2025-02-12 15:24:22 -0500 (Wed, 12 Feb 2025) EndedAt: 2025-02-12 15:24:36 -0500 (Wed, 12 Feb 2025) EllapsedTime: 13.4 seconds RetCode: 0 Status: OK