Package: SwathXtend Version: 2.29.0 Command: rm -rf SwathXtend.buildbin-libdir && mkdir SwathXtend.buildbin-libdir && /Users/biocbuild/BBS/utils/build-universal.sh SwathXtend_2.29.0.tar.gz /Library/Frameworks/R.framework/Resources/bin/R SwathXtend.buildbin-libdir StartedAt: 2025-02-09 22:32:56 -0500 (Sun, 09 Feb 2025) EndedAt: 2025-02-09 22:33:14 -0500 (Sun, 09 Feb 2025) EllapsedTime: 17.4 seconds RetCode: 0 Status: OK PackageFile: SwathXtend_2.29.0.tgz PackageFileSize: 346.6 MiB