Package: SwathXtend Version: 2.29.0 Command: /Library/Frameworks/R.framework/Resources/bin/R CMD build --keep-empty-dirs --no-resave-data SwathXtend StartedAt: 2025-02-09 18:40:16 -0500 (Sun, 09 Feb 2025) EndedAt: 2025-02-09 18:44:02 -0500 (Sun, 09 Feb 2025) EllapsedTime: 225.8 seconds RetCode: 0 Status: OK PackageFile: SwathXtend_2.29.0.tar.gz PackageFileSize: 346.3 MiB