Package: SwathXtend Version: 2.29.0 Command: /Library/Frameworks/R.framework/Resources/bin/R CMD check --install=check:SwathXtend.install-out.txt --library=/Library/Frameworks/R.framework/Resources/library --no-vignettes --timings SwathXtend_2.29.0.tar.gz StartedAt: 2025-02-10 00:00:54 -0500 (Mon, 10 Feb 2025) EndedAt: 2025-02-10 00:02:42 -0500 (Mon, 10 Feb 2025) EllapsedTime: 108.7 seconds RetCode: 0 Status: OK CheckDir: SwathXtend.Rcheck Warnings: 0