Package: SwathXtend Version: 2.29.0 Command: E:\biocbuild\bbs-3.21-bioc\R\bin\R.exe CMD check --no-multiarch --install=check:SwathXtend.install-out.txt --library=E:\biocbuild\bbs-3.21-bioc\R\library --no-vignettes --timings SwathXtend_2.29.0.tar.gz StartedAt: 2025-02-10 06:01:55 -0500 (Mon, 10 Feb 2025) EndedAt: 2025-02-10 06:04:11 -0500 (Mon, 10 Feb 2025) EllapsedTime: 135.6 seconds RetCode: 0 Status: OK CheckDir: SwathXtend.Rcheck Warnings: 0