Package: SwathXtend Version: 2.29.0 Command: E:\biocbuild\bbs-3.21-bioc\R\bin\R.exe CMD INSTALL SwathXtend StartedAt: 2025-02-09 16:04:17 -0500 (Sun, 09 Feb 2025) EndedAt: 2025-02-09 16:04:43 -0500 (Sun, 09 Feb 2025) EllapsedTime: 25.6 seconds RetCode: 0 Status: OK