Package: SynMut Version: 1.23.0 Command: /Library/Frameworks/R.framework/Resources/bin/R CMD INSTALL SynMut StartedAt: 2025-02-09 15:04:23 -0500 (Sun, 09 Feb 2025) EndedAt: 2025-02-09 15:04:28 -0500 (Sun, 09 Feb 2025) EllapsedTime: 4.9 seconds RetCode: 0 Status: OK