Package: SynMut Version: 1.23.0 Command: /home/biocbuild/R/R/bin/R CMD check --install=check:SynMut.install-out.txt --library=/home/biocbuild/R/R/site-library --no-vignettes --timings SynMut_1.23.0.tar.gz StartedAt: 2025-01-28 15:58:21 -0000 (Tue, 28 Jan 2025) EndedAt: 2025-01-28 16:00:17 -0000 (Tue, 28 Jan 2025) EllapsedTime: 116.3 seconds RetCode: 0 Status: OK CheckDir: SynMut.Rcheck Warnings: 0