Package: SynMut Version: 1.23.0 Command: /Library/Frameworks/R.framework/Resources/bin/R CMD build --keep-empty-dirs --no-resave-data SynMut StartedAt: 2025-02-03 18:35:59 -0500 (Mon, 03 Feb 2025) EndedAt: 2025-02-03 18:36:22 -0500 (Mon, 03 Feb 2025) EllapsedTime: 22.9 seconds RetCode: 0 Status: OK PackageFile: SynMut_1.23.0.tar.gz PackageFileSize: 104.7 KiB