Package: SynMut Version: 1.23.0 Command: /Library/Frameworks/R.framework/Resources/bin/R CMD check --install=check:SynMut.install-out.txt --library=/Library/Frameworks/R.framework/Resources/library --no-vignettes --timings SynMut_1.23.0.tar.gz StartedAt: 2025-02-03 23:44:09 -0500 (Mon, 03 Feb 2025) EndedAt: 2025-02-03 23:45:42 -0500 (Mon, 03 Feb 2025) EllapsedTime: 92.9 seconds RetCode: 0 Status: OK CheckDir: SynMut.Rcheck Warnings: 0