Package: SynMut Version: 1.23.0 Command: /Library/Frameworks/R.framework/Resources/bin/R CMD INSTALL SynMut StartedAt: 2025-02-03 15:14:50 -0500 (Mon, 03 Feb 2025) EndedAt: 2025-02-03 15:15:07 -0500 (Mon, 03 Feb 2025) EllapsedTime: 17.2 seconds RetCode: 0 Status: OK