Package: SynMut Version: 1.23.0 Command: rm -rf SynMut.buildbin-libdir && mkdir SynMut.buildbin-libdir && E:\biocbuild\bbs-3.21-bioc\R\bin\R.exe CMD INSTALL --build --library=SynMut.buildbin-libdir SynMut_1.23.0.tar.gz StartedAt: 2025-02-04 09:03:32 -0500 (Tue, 04 Feb 2025) EndedAt: 2025-02-04 09:04:04 -0500 (Tue, 04 Feb 2025) EllapsedTime: 32.0 seconds RetCode: 0 Status: OK PackageFile: SynMut_1.23.0.zip PackageFileSize: 322.3 KiB