Package: SynMut Version: 1.23.0 Command: E:\biocbuild\bbs-3.21-bioc\R\bin\R.exe CMD INSTALL SynMut StartedAt: 2025-02-03 15:53:55 -0500 (Mon, 03 Feb 2025) EndedAt: 2025-02-03 15:54:30 -0500 (Mon, 03 Feb 2025) EllapsedTime: 34.3 seconds RetCode: 0 Status: OK