Package: TADCompare Version: 1.17.0 Command: /home/biocbuild/R/R/bin/R CMD INSTALL TADCompare StartedAt: 2025-01-29 20:33:57 -0000 (Wed, 29 Jan 2025) EndedAt: 2025-01-29 20:34:37 -0000 (Wed, 29 Jan 2025) EllapsedTime: 39.4 seconds RetCode: 0 Status: OK